Package: beer Version: 1.11.0 Command: /Library/Frameworks/R.framework/Resources/bin/R CMD INSTALL beer StartedAt: 2025-02-09 15:23:05 -0500 (Sun, 09 Feb 2025) EndedAt: 2025-02-09 15:23:48 -0500 (Sun, 09 Feb 2025) EllapsedTime: 42.9 seconds RetCode: 0 Status: OK