Package: beer Version: 1.11.0 Command: rm -rf beer.buildbin-libdir && mkdir beer.buildbin-libdir && E:\biocbuild\bbs-3.21-bioc\R\bin\R.exe CMD INSTALL --build --library=beer.buildbin-libdir beer_1.11.0.tar.gz StartedAt: 2025-02-13 07:28:01 -0500 (Thu, 13 Feb 2025) EndedAt: 2025-02-13 07:28:43 -0500 (Thu, 13 Feb 2025) EllapsedTime: 42.1 seconds RetCode: 0 Status: OK PackageFile: beer_1.11.0.zip PackageFileSize: 481.8 KiB