Package: beer Version: 1.11.0 Command: chmod a+r beer -R && E:\biocbuild\bbs-3.21-bioc\R\bin\R.exe CMD build --keep-empty-dirs --no-resave-data beer StartedAt: 2025-02-09 17:23:08 -0500 (Sun, 09 Feb 2025) EndedAt: 2025-02-09 17:29:36 -0500 (Sun, 09 Feb 2025) EllapsedTime: 388.4 seconds RetCode: 0 Status: OK PackageFile: beer_1.11.0.tar.gz PackageFileSize: 383.2 KiB