Package: benchdamic Version: 1.13.2 Command: /Library/Frameworks/R.framework/Resources/bin/R CMD check --install=check:benchdamic.install-out.txt --library=/Library/Frameworks/R.framework/Resources/library --no-vignettes --timings benchdamic_1.13.2.tar.gz StartedAt: 2025-02-04 18:12:34 -0500 (Tue, 04 Feb 2025) EndedAt: 2025-02-04 18:16:19 -0500 (Tue, 04 Feb 2025) EllapsedTime: 224.7 seconds RetCode: 0 Status: OK CheckDir: benchdamic.Rcheck Warnings: 0