Package: benchdamic Version: 1.13.2 Command: /Library/Frameworks/R.framework/Resources/bin/R CMD INSTALL benchdamic StartedAt: 2025-02-04 15:24:21 -0500 (Tue, 04 Feb 2025) EndedAt: 2025-02-04 15:24:48 -0500 (Tue, 04 Feb 2025) EllapsedTime: 27.1 seconds RetCode: 0 Status: OK