Package: benchdamic Version: 1.13.2 Command: /home/biocbuild/R/R/bin/R CMD build --keep-empty-dirs --no-resave-data benchdamic StartedAt: 2025-01-28 21:05:07 -0000 (Tue, 28 Jan 2025) EndedAt: 2025-01-28 21:35:14 -0000 (Tue, 28 Jan 2025) EllapsedTime: 1807.5 seconds RetCode: 0 Status: OK PackageFile: benchdamic_1.13.2.tar.gz PackageFileSize: 2.254 MiB