Package: benchdamic Version: 1.13.2 Command: /home/biocbuild/R/R/bin/R CMD INSTALL benchdamic StartedAt: 2025-01-29 20:26:17 -0000 (Wed, 29 Jan 2025) EndedAt: 2025-01-29 20:27:52 -0000 (Wed, 29 Jan 2025) EllapsedTime: 95.2 seconds RetCode: 0 Status: OK