Package: benchdamic Version: 1.13.2 Command: /Library/Frameworks/R.framework/Resources/bin/R CMD build --keep-empty-dirs --no-resave-data benchdamic StartedAt: 2025-02-03 16:02:36 -0500 (Mon, 03 Feb 2025) EndedAt: 2025-02-03 16:23:14 -0500 (Mon, 03 Feb 2025) EllapsedTime: 1237.8 seconds RetCode: 0 Status: OK PackageFile: benchdamic_1.13.2.tar.gz PackageFileSize: 5.451 MiB