Package: benchdamic Version: 1.13.2 Command: /Library/Frameworks/R.framework/Resources/bin/R CMD check --install=check:benchdamic.install-out.txt --library=/Library/Frameworks/R.framework/Resources/library --no-vignettes --timings benchdamic_1.13.2.tar.gz StartedAt: 2025-02-03 19:07:46 -0500 (Mon, 03 Feb 2025) EndedAt: 2025-02-03 19:20:05 -0500 (Mon, 03 Feb 2025) EllapsedTime: 739.6 seconds RetCode: 0 Status: OK CheckDir: benchdamic.Rcheck Warnings: 0