Package: benchdamic Version: 1.13.2 Command: /home/biocbuild/bbs-3.21-bioc/R/bin/R CMD check --install=check:benchdamic.install-out.txt --library=/home/biocbuild/bbs-3.21-bioc/R/site-library --timings benchdamic_1.13.2.tar.gz StartedAt: 2025-02-04 20:14:35 -0500 (Tue, 04 Feb 2025) EndedAt: 2025-02-04 20:44:58 -0500 (Tue, 04 Feb 2025) EllapsedTime: 1822.8 seconds RetCode: 0 Status: OK CheckDir: benchdamic.Rcheck Warnings: 0