Package: benchdamic Version: 1.13.2 Command: /home/biocbuild/bbs-3.21-bioc/R/bin/R CMD INSTALL benchdamic StartedAt: 2025-02-09 15:28:40 -0500 (Sun, 09 Feb 2025) EndedAt: 2025-02-09 15:29:46 -0500 (Sun, 09 Feb 2025) EllapsedTime: 66.0 seconds RetCode: 0 Status: OK