Package: benchdamic Version: 1.13.2 Command: E:\biocbuild\bbs-3.21-bioc\R\bin\R.exe CMD check --no-multiarch --install=check:benchdamic.install-out.txt --library=E:\biocbuild\bbs-3.21-bioc\R\library --no-vignettes --timings benchdamic_1.13.2.tar.gz StartedAt: 2025-02-09 22:53:49 -0500 (Sun, 09 Feb 2025) EndedAt: 2025-02-09 23:15:34 -0500 (Sun, 09 Feb 2025) EllapsedTime: 1305.7 seconds RetCode: 0 Status: OK CheckDir: benchdamic.Rcheck Warnings: 0