Package: benchdamic Version: 1.13.2 Command: E:\biocbuild\bbs-3.21-bioc\R\bin\R.exe CMD INSTALL benchdamic StartedAt: 2025-02-04 16:41:53 -0500 (Tue, 04 Feb 2025) EndedAt: 2025-02-04 16:43:23 -0500 (Tue, 04 Feb 2025) EllapsedTime: 90.2 seconds RetCode: 0 Status: OK