Package: betaHMM Version: 1.3.1 Maintainer: Koyel Majumdar MaintainerEmail: koyel.majumdar at ucdconnect.ie git_url: https://git.bioconductor.org/packages/betaHMM git_branch: devel git_last_commit: 83d4444 git_last_commit_date: 2024-12-17 13:23:04 -0500 (Tue, 17 Dec 2024)