Package: betaHMM Version: 1.3.1 Command: rm -rf betaHMM.buildbin-libdir && mkdir betaHMM.buildbin-libdir && /Users/biocbuild/BBS/utils/build-universal.sh betaHMM_1.3.1.tar.gz /Library/Frameworks/R.framework/Resources/bin/R betaHMM.buildbin-libdir StartedAt: 2025-02-04 22:08:48 -0500 (Tue, 04 Feb 2025) EndedAt: 2025-02-04 22:09:00 -0500 (Tue, 04 Feb 2025) EllapsedTime: 11.2 seconds RetCode: 0 Status: OK PackageFile: betaHMM_1.3.1.tgz PackageFileSize: 3.922 MiB