Package: betaHMM Version: 1.3.1 Command: /Library/Frameworks/R.framework/Resources/bin/R CMD build --keep-empty-dirs --no-resave-data betaHMM StartedAt: 2025-02-04 15:39:19 -0500 (Tue, 04 Feb 2025) EndedAt: 2025-02-04 15:41:00 -0500 (Tue, 04 Feb 2025) EllapsedTime: 101.1 seconds RetCode: 0 Status: OK PackageFile: betaHMM_1.3.1.tar.gz PackageFileSize: 3.835 MiB