Package: betaHMM Version: 1.3.1 Command: /Library/Frameworks/R.framework/Resources/bin/R CMD check --install=check:betaHMM.install-out.txt --library=/Library/Frameworks/R.framework/Resources/library --no-vignettes --timings betaHMM_1.3.1.tar.gz StartedAt: 2025-02-04 18:12:43 -0500 (Tue, 04 Feb 2025) EndedAt: 2025-02-04 18:16:14 -0500 (Tue, 04 Feb 2025) EllapsedTime: 211.5 seconds RetCode: 0 Status: OK CheckDir: betaHMM.Rcheck Warnings: 0