Package: betaHMM Version: 1.3.1 Command: /home/biocbuild/R/R/bin/R CMD build --keep-empty-dirs --no-resave-data betaHMM StartedAt: 2025-01-29 21:06:39 -0000 (Wed, 29 Jan 2025) EndedAt: 2025-01-29 21:14:10 -0000 (Wed, 29 Jan 2025) EllapsedTime: 450.1 seconds RetCode: 0 Status: OK PackageFile: betaHMM_1.3.1.tar.gz PackageFileSize: 3.571 MiB