Package: betaHMM Version: 1.3.1 Command: /home/biocbuild/R/R/bin/R CMD check --install=check:betaHMM.install-out.txt --library=/home/biocbuild/R/R/site-library --no-vignettes --timings betaHMM_1.3.1.tar.gz StartedAt: 2025-01-28 03:47:31 -0000 (Tue, 28 Jan 2025) EndedAt: 2025-01-28 08:30:04 -0000 (Tue, 28 Jan 2025) EllapsedTime: 16953.1 seconds RetCode: None Status: TIMEOUT CheckDir: betaHMM.Rcheck Warnings: NA