Package: betaHMM Version: 1.3.1 Command: /Library/Frameworks/R.framework/Resources/bin/R CMD build --keep-empty-dirs --no-resave-data betaHMM StartedAt: 2025-02-09 15:59:38 -0500 (Sun, 09 Feb 2025) EndedAt: 2025-02-09 16:04:27 -0500 (Sun, 09 Feb 2025) EllapsedTime: 289.0 seconds RetCode: 0 Status: OK PackageFile: betaHMM_1.3.1.tar.gz PackageFileSize: 3.835 MiB