Package: betaHMM Version: 1.3.1 Command: /Library/Frameworks/R.framework/Resources/bin/R CMD INSTALL betaHMM StartedAt: 2025-02-09 15:11:05 -0500 (Sun, 09 Feb 2025) EndedAt: 2025-02-09 15:11:42 -0500 (Sun, 09 Feb 2025) EllapsedTime: 37.3 seconds RetCode: 0 Status: OK