Package: betaHMM Version: 1.3.1 Command: /home/biocbuild/bbs-3.21-bioc/R/bin/R CMD build --keep-empty-dirs --no-resave-data betaHMM StartedAt: 2025-02-03 16:26:21 -0500 (Mon, 03 Feb 2025) EndedAt: 2025-02-03 16:30:56 -0500 (Mon, 03 Feb 2025) EllapsedTime: 275.2 seconds RetCode: 0 Status: OK PackageFile: betaHMM_1.3.1.tar.gz PackageFileSize: 3.839 MiB