Package: betaHMM Version: 1.3.1 Command: /home/biocbuild/bbs-3.21-bioc/R/bin/R CMD check --install=check:betaHMM.install-out.txt --library=/home/biocbuild/bbs-3.21-bioc/R/site-library --timings betaHMM_1.3.1.tar.gz StartedAt: 2025-02-03 20:26:14 -0500 (Mon, 03 Feb 2025) EndedAt: 2025-02-03 20:39:00 -0500 (Mon, 03 Feb 2025) EllapsedTime: 766.4 seconds RetCode: 0 Status: OK CheckDir: betaHMM.Rcheck Warnings: 0