Package: betaHMM Version: 1.3.1 Command: /home/biocbuild/bbs-3.21-bioc/R/bin/R CMD INSTALL betaHMM StartedAt: 2025-02-03 15:26:51 -0500 (Mon, 03 Feb 2025) EndedAt: 2025-02-03 15:27:16 -0500 (Mon, 03 Feb 2025) EllapsedTime: 24.7 seconds RetCode: 0 Status: OK