Package: betaHMM Version: 1.3.1 Command: rm -rf betaHMM.buildbin-libdir && mkdir betaHMM.buildbin-libdir && E:\biocbuild\bbs-3.21-bioc\R\bin\R.exe CMD INSTALL --build --library=betaHMM.buildbin-libdir betaHMM_1.3.1.tar.gz StartedAt: 2025-02-04 07:31:42 -0500 (Tue, 04 Feb 2025) EndedAt: 2025-02-04 07:32:33 -0500 (Tue, 04 Feb 2025) EllapsedTime: 50.9 seconds RetCode: 0 Status: OK PackageFile: betaHMM_1.3.1.zip PackageFileSize: 3.537 MiB