Package: betaHMM Version: 1.3.1 Command: chmod a+r betaHMM -R && E:\biocbuild\bbs-3.21-bioc\R\bin\R.exe CMD build --keep-empty-dirs --no-resave-data betaHMM StartedAt: 2025-02-09 17:23:37 -0500 (Sun, 09 Feb 2025) EndedAt: 2025-02-09 17:30:50 -0500 (Sun, 09 Feb 2025) EllapsedTime: 432.7 seconds RetCode: 0 Status: OK PackageFile: betaHMM_1.3.1.tar.gz PackageFileSize: 3.448 MiB