Package: betaHMM Version: 1.3.1 Command: E:\biocbuild\bbs-3.21-bioc\R\bin\R.exe CMD check --no-multiarch --install=check:betaHMM.install-out.txt --library=E:\biocbuild\bbs-3.21-bioc\R\library --no-vignettes --timings betaHMM_1.3.1.tar.gz StartedAt: 2025-02-03 23:23:22 -0500 (Mon, 03 Feb 2025) EndedAt: 2025-02-03 23:40:31 -0500 (Mon, 03 Feb 2025) EllapsedTime: 1029.7 seconds RetCode: 0 Status: OK CheckDir: betaHMM.Rcheck Warnings: 0