Package: betaHMM Version: 1.3.1 Command: E:\biocbuild\bbs-3.21-bioc\R\bin\R.exe CMD INSTALL betaHMM StartedAt: 2025-02-03 16:27:08 -0500 (Mon, 03 Feb 2025) EndedAt: 2025-02-03 16:27:51 -0500 (Mon, 03 Feb 2025) EllapsedTime: 42.6 seconds RetCode: 0 Status: OK