Package: bettr Version: 1.3.0 Command: /Library/Frameworks/R.framework/Resources/bin/R CMD build --keep-empty-dirs --no-resave-data bettr StartedAt: 2025-02-05 15:40:12 -0500 (Wed, 05 Feb 2025) EndedAt: 2025-02-05 15:40:29 -0500 (Wed, 05 Feb 2025) EllapsedTime: 16.2 seconds RetCode: 0 Status: OK PackageFile: bettr_1.3.0.tar.gz PackageFileSize: 2.582 MiB