Package: bettr Version: 1.3.0 Command: /home/biocbuild/bbs-3.21-bioc/R/bin/R CMD INSTALL bettr StartedAt: 2025-02-05 15:16:48 -0500 (Wed, 05 Feb 2025) EndedAt: 2025-02-05 15:17:15 -0500 (Wed, 05 Feb 2025) EllapsedTime: 26.8 seconds RetCode: 0 Status: OK