Package: bioDist Version: 1.79.0 Command: /home/biocbuild/R/R/bin/R CMD check --install=check:bioDist.install-out.txt --library=/home/biocbuild/R/R/site-library --no-vignettes --timings bioDist_1.79.0.tar.gz StartedAt: 2025-01-28 03:56:21 -0000 (Tue, 28 Jan 2025) EndedAt: 2025-01-28 08:30:01 -0000 (Tue, 28 Jan 2025) EllapsedTime: 16420.5 seconds RetCode: None Status: TIMEOUT CheckDir: bioDist.Rcheck Warnings: NA