Package: bioDist Version: 1.79.0 Command: rm -rf bioDist.buildbin-libdir && mkdir bioDist.buildbin-libdir && /Users/biocbuild/BBS/utils/build-universal.sh bioDist_1.79.0.tar.gz /Library/Frameworks/R.framework/Resources/bin/R bioDist.buildbin-libdir StartedAt: 2025-02-10 00:44:02 -0500 (Mon, 10 Feb 2025) EndedAt: 2025-02-10 00:44:10 -0500 (Mon, 10 Feb 2025) EllapsedTime: 8.1 seconds RetCode: 0 Status: OK PackageFile: bioDist_1.79.0.tgz PackageFileSize: 255.1 KiB