Package: bioDist Version: 1.79.0 Command: /Library/Frameworks/R.framework/Resources/bin/R CMD build --keep-empty-dirs --no-resave-data bioDist StartedAt: 2025-02-09 16:03:52 -0500 (Sun, 09 Feb 2025) EndedAt: 2025-02-09 16:04:10 -0500 (Sun, 09 Feb 2025) EllapsedTime: 18.2 seconds RetCode: 0 Status: OK PackageFile: bioDist_1.79.0.tar.gz PackageFileSize: 204.6 KiB