Package: bioDist Version: 1.79.0 Command: /home/biocbuild/bbs-3.21-bioc/R/bin/R CMD check --install=check:bioDist.install-out.txt --library=/home/biocbuild/bbs-3.21-bioc/R/site-library --timings bioDist_1.79.0.tar.gz StartedAt: 2025-02-12 20:21:58 -0500 (Wed, 12 Feb 2025) EndedAt: 2025-02-12 20:22:35 -0500 (Wed, 12 Feb 2025) EllapsedTime: 37.1 seconds RetCode: 0 Status: OK CheckDir: bioDist.Rcheck Warnings: 0