Package: bioDist Version: 1.79.0 Command: E:\biocbuild\bbs-3.21-bioc\R\bin\R.exe CMD check --no-multiarch --install=check:bioDist.install-out.txt --library=E:\biocbuild\bbs-3.21-bioc\R\library --no-vignettes --timings bioDist_1.79.0.tar.gz StartedAt: 2025-02-12 23:13:42 -0500 (Wed, 12 Feb 2025) EndedAt: 2025-02-12 23:14:18 -0500 (Wed, 12 Feb 2025) EllapsedTime: 35.9 seconds RetCode: 0 Status: OK CheckDir: bioDist.Rcheck Warnings: 0