Package: bioDist Version: 1.79.0 Command: E:\biocbuild\bbs-3.21-bioc\R\bin\R.exe CMD INSTALL bioDist StartedAt: 2025-02-09 15:23:49 -0500 (Sun, 09 Feb 2025) EndedAt: 2025-02-09 15:24:04 -0500 (Sun, 09 Feb 2025) EllapsedTime: 15.7 seconds RetCode: 0 Status: OK