Package: bioassayR Version: 1.45.0 Command: /Library/Frameworks/R.framework/Resources/bin/R CMD INSTALL bioassayR StartedAt: 2025-02-12 15:39:14 -0500 (Wed, 12 Feb 2025) EndedAt: 2025-02-12 15:39:30 -0500 (Wed, 12 Feb 2025) EllapsedTime: 16.4 seconds RetCode: 0 Status: OK