Package: bioassayR Version: 1.45.0 Command: rm -rf bioassayR.buildbin-libdir && mkdir bioassayR.buildbin-libdir && E:\biocbuild\bbs-3.21-bioc\R\bin\R.exe CMD INSTALL --build --library=bioassayR.buildbin-libdir bioassayR_1.45.0.tar.gz StartedAt: 2025-02-10 07:17:04 -0500 (Mon, 10 Feb 2025) EndedAt: 2025-02-10 07:20:13 -0500 (Mon, 10 Feb 2025) EllapsedTime: 189.4 seconds RetCode: 0 Status: OK PackageFile: bioassayR_1.45.0.zip PackageFileSize: 993.5 KiB