Package: bioassayR Version: 1.45.0 Command: chmod a+r bioassayR -R && E:\biocbuild\bbs-3.21-bioc\R\bin\R.exe CMD build --keep-empty-dirs --no-resave-data bioassayR StartedAt: 2025-02-09 17:26:03 -0500 (Sun, 09 Feb 2025) EndedAt: 2025-02-09 17:27:51 -0500 (Sun, 09 Feb 2025) EllapsedTime: 107.8 seconds RetCode: 0 Status: OK PackageFile: bioassayR_1.45.0.tar.gz PackageFileSize: 1.247 MiB