Package: bioassayR Version: 1.45.0 Command: E:\biocbuild\bbs-3.21-bioc\R\bin\R.exe CMD check --no-multiarch --install=check:bioassayR.install-out.txt --library=E:\biocbuild\bbs-3.21-bioc\R\library --no-vignettes --timings bioassayR_1.45.0.tar.gz StartedAt: 2025-02-09 22:56:31 -0500 (Sun, 09 Feb 2025) EndedAt: 2025-02-09 22:58:11 -0500 (Sun, 09 Feb 2025) EllapsedTime: 100.8 seconds RetCode: 0 Status: OK CheckDir: bioassayR.Rcheck Warnings: 0