Package: biobtreeR Version: 1.19.0 Command: /home/biocbuild/R/R/bin/R CMD build --keep-empty-dirs --no-resave-data biobtreeR StartedAt: 2025-01-29 21:12:57 -0000 (Wed, 29 Jan 2025) EndedAt: 2025-01-29 21:13:28 -0000 (Wed, 29 Jan 2025) EllapsedTime: 30.0 seconds RetCode: 1 Status: ERROR PackageFile: None PackageFileSize: NA