Package: biobtreeR Version: 1.19.0 Command: /Library/Frameworks/R.framework/Resources/bin/R CMD build --keep-empty-dirs --no-resave-data biobtreeR StartedAt: 2025-02-09 16:01:53 -0500 (Sun, 09 Feb 2025) EndedAt: 2025-02-09 16:02:44 -0500 (Sun, 09 Feb 2025) EllapsedTime: 51.4 seconds RetCode: 0 Status: OK PackageFile: biobtreeR_1.19.0.tar.gz PackageFileSize: 938.2 KiB