Package: biobtreeR Version: 1.19.0 Command: /Library/Frameworks/R.framework/Resources/bin/R CMD INSTALL biobtreeR StartedAt: 2025-02-12 15:08:10 -0500 (Wed, 12 Feb 2025) EndedAt: 2025-02-12 15:08:36 -0500 (Wed, 12 Feb 2025) EllapsedTime: 26.1 seconds RetCode: 0 Status: OK