Package: biobtreeR Version: 1.19.0 Command: rm -rf biobtreeR.buildbin-libdir && mkdir biobtreeR.buildbin-libdir && E:\biocbuild\bbs-3.21-bioc\R\bin\R.exe CMD INSTALL --build --library=biobtreeR.buildbin-libdir biobtreeR_1.19.0.tar.gz StartedAt: 2025-02-10 07:17:12 -0500 (Mon, 10 Feb 2025) EndedAt: 2025-02-10 07:17:33 -0500 (Mon, 10 Feb 2025) EllapsedTime: 21.4 seconds RetCode: 0 Status: OK PackageFile: biobtreeR_1.19.0.zip PackageFileSize: 985.3 KiB