Package: biobtreeR Version: 1.19.0 Command: chmod a+r biobtreeR -R && E:\biocbuild\bbs-3.21-bioc\R\bin\R.exe CMD build --keep-empty-dirs --no-resave-data biobtreeR StartedAt: 2025-02-12 17:28:57 -0500 (Wed, 12 Feb 2025) EndedAt: 2025-02-12 17:30:20 -0500 (Wed, 12 Feb 2025) EllapsedTime: 82.9 seconds RetCode: 0 Status: OK PackageFile: biobtreeR_1.19.0.tar.gz PackageFileSize: 938.4 KiB