Package: biocGraph Version: 1.69.0 Command: /Library/Frameworks/R.framework/Resources/bin/R CMD INSTALL biocGraph StartedAt: 2025-02-09 15:11:57 -0500 (Sun, 09 Feb 2025) EndedAt: 2025-02-09 15:12:02 -0500 (Sun, 09 Feb 2025) EllapsedTime: 5.3 seconds RetCode: 0 Status: OK