Package: biocGraph Version: 1.69.0 Command: /home/biocbuild/R/R/bin/R CMD build --keep-empty-dirs --no-resave-data biocGraph StartedAt: 2025-01-29 21:13:45 -0000 (Wed, 29 Jan 2025) EndedAt: 2025-01-29 21:14:19 -0000 (Wed, 29 Jan 2025) EllapsedTime: 34.0 seconds RetCode: 0 Status: OK PackageFile: biocGraph_1.69.0.tar.gz PackageFileSize: 716.9 KiB