Package: biocGraph Version: 1.69.0 Command: /Library/Frameworks/R.framework/Resources/bin/R CMD build --keep-empty-dirs --no-resave-data biocGraph StartedAt: 2025-02-04 16:00:11 -0500 (Tue, 04 Feb 2025) EndedAt: 2025-02-04 16:00:45 -0500 (Tue, 04 Feb 2025) EllapsedTime: 34.3 seconds RetCode: 0 Status: OK PackageFile: biocGraph_1.69.0.tar.gz PackageFileSize: 729.1 KiB