Package: biocGraph Version: 1.69.0 Command: /home/biocbuild/bbs-3.21-bioc/R/bin/R CMD check --install=check:biocGraph.install-out.txt --library=/home/biocbuild/bbs-3.21-bioc/R/site-library --timings biocGraph_1.69.0.tar.gz StartedAt: 2025-02-09 20:23:23 -0500 (Sun, 09 Feb 2025) EndedAt: 2025-02-09 20:25:14 -0500 (Sun, 09 Feb 2025) EllapsedTime: 111.2 seconds RetCode: 0 Status: OK CheckDir: biocGraph.Rcheck Warnings: 0