Package: biocGraph Version: 1.69.0 Command: /home/biocbuild/bbs-3.21-bioc/R/bin/R CMD INSTALL biocGraph StartedAt: 2025-02-09 15:27:29 -0500 (Sun, 09 Feb 2025) EndedAt: 2025-02-09 15:27:44 -0500 (Sun, 09 Feb 2025) EllapsedTime: 14.1 seconds RetCode: 0 Status: OK